BEGIN:VCALENDAR
PRODID:-//Microsoft Corporation//Outlook 14.0 MIMEDIR//EN
VERSION:2.0
METHOD:PUBLISH
BEGIN:VEVENT
UID:97ff258902bf1ccaf376b6bd15631191www.cabchateauguay.org
DTSTAMP:20260425T143557Z
DTSTART:2026-05-01T08:00:0000Z
DTEND:2026-05-31T16:00:0000Z
SUMMARY:Défi Un pas vers l’autre - Nouveau ! 
LOCATION:10, rue Gilmour, Châteauguay, J6J 1K4
DESCRIPTION:C’est quoi, un pas vers l’autre ? C’est poser un seul geste.
Un geste qui peut faire une vraie différence dans la vie d’une personne qui vit un besoin, petit ou grand.
Bref… un geste humain, simple, spontané.
Prix à gagner !
END:VEVENT
END:VCALENDAR