BEGIN:VCALENDAR
PRODID:-//Microsoft Corporation//Outlook 14.0 MIMEDIR//EN
VERSION:2.0
METHOD:PUBLISH
BEGIN:VEVENT
UID:f195a53a5d22958668fe26ae90b50bd3www.cabchateauguay.org
DTSTAMP:20260419T125311Z
DTSTART:2026-05-11T12:45:0000Z
DTEND:2026-05-11T14:45:0000Z
SUMMARY:ÉVÉNEMENT ANNULÉ - Cerveau éveillé
LOCATION:200, rue Principale, Châteauguay, Qc, J6J 3H2
DESCRIPTION:Un vrai entraînement santé pour votre tête et votre cœur. Parce que faire travailler son cerveau, c’est aussi bon pour la santé que de bouger son corps !
END:VEVENT
END:VCALENDAR